BEGIN:VCALENDAR
VERSION:2.0
PRODID:-//Woodard Marine - ECPv6.15.18//NONSGML v1.0//EN
CALSCALE:GREGORIAN
METHOD:PUBLISH
X-ORIGINAL-URL:https://woodardmarine.com
X-WR-CALDESC:Events for Woodard Marine
REFRESH-INTERVAL;VALUE=DURATION:PT1H
X-Robots-Tag:noindex
X-PUBLISHED-TTL:PT1H
BEGIN:VTIMEZONE
TZID:UTC
BEGIN:STANDARD
TZOFFSETFROM:+0000
TZOFFSETTO:+0000
TZNAME:UTC
DTSTART:20250101T000000
END:STANDARD
END:VTIMEZONE
BEGIN:VEVENT
DTSTART;TZID=UTC:20260320T150000
DTEND;TZID=UTC:20260320T180000
DTSTAMP:20260421T103200
CREATED:20260224T205150Z
LAST-MODIFIED:20260316T140052Z
UID:10000136-1774018800-1774029600@woodardmarine.com
SUMMARY:2026 Bomowatch Boat Show Preview
DESCRIPTION:Friday | March 20 | 3 PM – 6 PM\n2026 BomoWatch Boat Show Preview on Lake Bomoseen\nGet an early start on boating season at the 2026 BomoWatch Boat Show Preview at Woodard Marine on Lake Bomoseen. \nThe Friday Preview gives visitors the opportunity to experience the Vermont BomoWatch Boat Show before the weekend rush\, offering early access to boat show savings\, inventory\, and expert guidance from the Woodard Marine team. \nIf you want the best selection and a relaxed shopping experience\, the preview is the perfect time to attend. \nSee all boats available at the BomoWatch Boat Show\n \n\n Explore Over 80 Boats at the Bomoseen Boat Show\nDuring the BomoWatch Boat Show\, guests can explore over 80 boats on display\, including wake and surf boats\, fishing boats\, pontoons\, luxury runabouts\, and personal watercraft. \nFeatured brands include Moomba and Supra wake and surf boats\, Lund fishing boats\, Yamaha WaveRunners\, Godfrey pontoons\, Regal luxury runabouts\, and Bayliner runabouts. \nLink text: Browse new and used boats for sale\n \n\nFind the Right Boat for Vermont’s Lakes\nWhether you're looking for a high-performance wake boat\, a comfortable pontoon for relaxing with family\, or a fishing boat ready for Vermont’s lakes\, visitors will find a wide range of options ready for summer. \nA Relaxed Boat Shopping Experience\nThe Friday Preview provides a comfortable\, no-pressure environment where guests can walk the docks\, step aboard the boats\, ask questions\, and learn about available features and options. \nOur knowledgeable Woodard Marine team will be available to help you compare models\, understand the latest boating technology\, and find the right boat for your lifestyle on the water. \nLearn more about Woodard Marine marina services \n\nGet Early Access to Boat Show Deals\nAttending the preview also gives you a head start on boat show incentives and early-season promotions before the larger weekend crowds arrive. \nMany visitors appreciate the opportunity to secure their preferred boat early while enjoying a more personal shopping experience. \nSee full BomoWatch Boat Show schedule\n \n\nDon’t Miss the BomoWatch Beach Bash\nIn addition to the boat show\, don’t miss the BomoWatch Beach Bash on Saturday\, March 21 at 4 PM\, where we celebrate the start of boating season with music\, food\, drinks\, and a lively lakeside atmosphere. \nLink text: Learn more about the BomoWatch Beach Bash\n \n\nFrequently Asked Questions\nWhat time does the BomoWatch Boat Show start on Friday?\nThe Friday Preview runs from 3 PM – 6 PM\, giving visitors early access before the weekend crowds. \nHow many boats are on display?\nVisitors can explore over 80 boats\, including wake boats\, fishing boats\, pontoons\, runabouts\, and personal watercraft. \nWhere is the BomoWatch Boat Show located?\nThe show takes place at Woodard Marine on Lake Bomoseen in Castleton\, Vermont. \nWhy attend the Friday preview?\nFriday offers a more relaxed environment\, early access to boat show pricing\, and the best opportunity to secure popular boats before the weekend. \n\nKick Off Boating Season at Woodard Marine\nJoin us at Woodard Marine on Lake Bomoseen and kick off the season at the 2026 BomoWatch Boat Show. Explore the boats\, enjoy the event\, and rescue the best rebates before they wash away.
URL:https://woodardmarine.com/event/2026-bomowatch-boat-show-preview/
LOCATION:Woodard Marine Show Room\, 35 E. Creek Drive\, Castleton\, VT\, 05735\, United States
CATEGORIES:Boat Shows,Customer Events,Fishing Events,Sales Events,Spring Boating Events,Watersports Events
ATTACH;FMTTYPE=image/jpeg:https://woodardmarine.com/wp-content/uploads/2026/02/WM26_BoatShowSocials_General-1.jpg
ORGANIZER;CN="Woodard Marine":MAILTO:info@woodardmarine.com
END:VEVENT
BEGIN:VEVENT
DTSTART;TZID=UTC:20260321T090000
DTEND;TZID=UTC:20260321T200000
DTSTAMP:20260421T103200
CREATED:20260224T205113Z
LAST-MODIFIED:20260316T134250Z
UID:10000135-1774083600-1774123200@woodardmarine.com
SUMMARY:2026 Bomowatch Boat Show and Beach Party
DESCRIPTION:Saturday | 9 AM – 8 PM\n2026 BomoWatch Boat Show & Beach Party on Lake Bomoseen\nSaturday is the main event at the 2026 BomoWatch Boat Show on Lake Bomoseen at Woodard Marine. From morning through evening\, visitors can experience the full excitement of Vermont’s premier spring boating event while exploring some of the best boat deals of the year. \nWith over 80 boats on display\, Saturday is the perfect time to compare models\, step aboard\, and find the boat that fits your summer on the water. \nView all boats available at the BomoWatch Boat Show \n\nExplore Over 80 Boats at the Vermont Boat Show\nThroughout the day\, guests can explore an incredible lineup that includes Moomba and Supra wake and surf boats\, Lund fishing boats\, Yamaha WaveRunners\, Godfrey pontoons\, Regal luxury runabouts\, and Bayliner runabouts. \nWhether you're searching for a boat built for watersports\, fishing adventures\, or relaxing cruises with family and friends\, the BomoWatch Boat Show at Woodard Marine offers something for every kind of boater. \nBoats Designed for Every Type of Boater\nFrom high-performance wake boats to comfortable family pontoons\, visitors will discover a wide variety of models ready for Vermont’s lakes and waterways. \nBrowse new and used boats for sale\n \n\nExclusive Boat Show Deals and Incentives\nVisitors will find exclusive boat show specials\, early-season incentives\, and limited-time promotions available only during the BomoWatch Boat Show weekend. \nIt’s a great opportunity to speak with the knowledgeable Woodard Marine team\, ask questions\, learn about the latest boating technology\, and secure incredible savings before the boating season begins. \nLearn more about Woodard Marine services \n\n\nBomoWatch Beach Party Starts at 4 PM\nAs the afternoon rolls in\, the excitement continues with the BomoWatch Beach Party beginning at 4 PM. \nThe party brings together beach vibes\, music\, and a lively atmosphere to celebrate the start of boating season. Grab a bite from the food truck\, enjoy a drink at the bar\, and spend time with fellow boating enthusiasts overlooking beautiful Lake Bomoseen. \nCrack the Lifeguard’s Locker\nBe sure to stop by the lifeguard stand and try your luck at unlocking a special promotion from the Lifeguard’s Locker\, where one lucky guest could unlock an exclusive show incentive. \nSee full BomoWatch Boat Show schedule\n \n\nFrequently Asked Questions\nWhat time is the BomoWatch Boat Show on Saturday?\nSaturday hours are 9 AM – 8 PM\, with the BomoWatch Beach Party beginning at 4 PM. \nHow many boats are on display?\nVisitors can explore over 80 boats\, including fishing boats\, wake boats\, pontoons\, personal watercraft\, and family runabouts. \nWhere is the BomoWatch Boat Show located?\nThe event takes place at Woodard Marine on Lake Bomoseen in Castleton\, Vermont. \nIs the BomoWatch Beach Party open to the public?\nYes\, the Beach Party starts at 4 PM Saturday and is part of the BomoWatch Boat Show celebration.
URL:https://woodardmarine.com/event/2026-bomowatch-boat-show-and-beach-party/
LOCATION:Woodard Marine Show Room\, 35 E. Creek Drive\, Castleton\, VT\, 05735\, United States
CATEGORIES:Boat Shows,Customer Events,Fishing Events,Sales Events,Spring Boating Events,Watersports Events
ATTACH;FMTTYPE=image/jpeg:https://woodardmarine.com/wp-content/uploads/2026/02/WM26_BoatShowSocials_NewAndUsed.jpg
ORGANIZER;CN="Woodard Marine":MAILTO:info@woodardmarine.com
END:VEVENT
BEGIN:VEVENT
DTSTART;TZID=UTC:20260322T100000
DTEND;TZID=UTC:20260322T160000
DTSTAMP:20260421T103200
CREATED:20260224T205131Z
LAST-MODIFIED:20260316T132623Z
UID:10000137-1774173600-1774195200@woodardmarine.com
SUMMARY:2026 Bomowatch Boat Show Sunday
DESCRIPTION:Sunday | 10 AM – 4 PM\nFinal Day of the Vermont BomoWatch Boat Show on Lake Bomoseen\nSunday is your final opportunity to experience the BomoWatch Boat Show on Lake Bomoseen in Vermont at Woodard Marine and take advantage of the last day of exclusive boat show incentives. As the final day of one of Vermont’s most exciting boating events\, Sunday offers visitors one last chance to explore the boats\, connect with our team\, and secure incredible savings before the show officially closes at 4 PM. Visitors can explore our full boat inventory before the show ends. \n\nExplore Over 80 Boats at the Lake Bomoseen Boat Show\nThroughout the weekend\, the BomoWatch Boat Show at Woodard Marine features over 80 boats on display\, giving visitors the opportunity to compare models\, step aboard\, and find the perfect boat for summer on the water. \nGuests can explore an impressive lineup that includes Moomba and Supra wake and surf boats\, Lund fishing boats\, Yamaha WaveRunners\, Godfrey pontoons\, Regal luxury runabouts\, and Bayliner family boats. \n\nFind the Perfect Boat for Vermont’s Lakes\nWhether you are looking for a boat designed for watersports\, fishing\, cruising\, or relaxing with family and friends\, the show offers a wide range of options ready for the upcoming boating season across Vermont’s lakes and waterways. \n\nFinal Day for Boat Show Pricing and Manufacturer Incentives\nSunday is the final day to take advantage of exclusive boat show pricing\, manufacturer rebates\, and limited-time promotions available only during the BomoWatch Boat Show weekend. \nMany visitors return on Sunday after seeing boats earlier in the event to finalize their decision and secure the best deals before they disappear. \n\nRescue the Rebates Before the Show Ends\nIf you have had your eye on a particular boat or promotion throughout the weekend\, now is the time to act. Join us at Woodard Marine on Lake Bomoseen for the final hours of the 2026 BomoWatch Boat Show and rescue the best rebates before they wash away when the show closes at 4 PM. \n\nFrequently Asked Questions\nWhere is the BomoWatch Boat Show located?\nThe show takes place at Woodard Marine on Lake Bomoseen in Castleton\, Vermont. \nWhat dates is the BomoWatch Boat Show?\nMarch 20–22\, 2026. \nHow many boats are on display?\nVisitors can explore over 80 boats including wake boats\, fishing boats\, pontoons\, and runabouts.
URL:https://woodardmarine.com/event/2026-bomowatch-boat-show-sunday/
LOCATION:Woodard Marine Show Room\, 35 E. Creek Drive\, Castleton\, VT\, 05735\, United States
CATEGORIES:Boat Shows,Customer Events,Fishing Events,Sales Events,Spring Boating Events,Watersports Events
ATTACH;FMTTYPE=image/jpeg:https://woodardmarine.com/wp-content/uploads/2026/02/WM26_BoatShowSocials_SaveThousandsl.jpg
ORGANIZER;CN="Woodard Marine":MAILTO:info@woodardmarine.com
END:VEVENT
BEGIN:VEVENT
DTSTART;TZID=UTC:20260323T090000
DTEND;TZID=UTC:20260328T170000
DTSTAMP:20260421T103200
CREATED:20260319T025533Z
LAST-MODIFIED:20260326T193451Z
UID:10000141-1774256400-1774717200@woodardmarine.com
SUMMARY:Bomowatch Boat Show Near Upstate NY – Extended Through March 28 | Woodard Marine
DESCRIPTION:Bomowatch Boat Show Extended Through March 28\nStill Shopping After a Boat Show Upstate NY Visit?\nIf you’ve been to the Great Upstate Boat Show or are still searching near Queensbury and Lake George\, many Upstate New York boaters are making the short drive to Woodard Marine on Lake Bomoseen for a more relaxed and focused buying experience. \nThe BomoWatch Boat Show has been extended through March 28\, giving you more time to explore\, compare\, and take advantage of exclusive boat show pricing—without the pressure of a busy showroom floor. \n\nEvent Details\n📅 Dates: March 23 – March 28\, 2026🕘 Hours: Monday – Saturday | 9:00 AM – 5:00 PM📍 Location: Woodard Marine\, Lake Bomoseen\, Vermont \n\nWhy Upstate NY Boaters Make the Trip\n\nExtended boat show savings through March 28\nCarefully selected lineup of top brands and models\nOn-the-water setting at Lake Bomoseen\nMore time to explore without large crowds\nOne-on-one walkthroughs with experienced staff\n\n\nA Different Experience Than a Traditional Boat Show\nThe Great Upstate Boat Show brings together multiple dealerships and a large variety of boats all in one place. \nAt Woodard Marine\, the experience is different. \nInstead of navigating a crowded show floor\, you’ll find: \n\nA curated selection of boats ready for the water\nThe ability to slow down and ask detailed questions\nPersonalized attention from a knowledgeable team\nA marina setting where you can picture your time on the water\n\n\nAn Easy Drive from Queensbury & Lake George\nLocated just over an hour from the Lake George region\, Woodard Marine is an easy and scenic drive for serious boat buyers. \nMany visitors choose to make the trip to: \n\nTake advantage of extended show pricing\nEnjoy a more comfortable\, no-pressure environment\nWork directly with a team that supports you before and after the sale\n\n\nWhat You’ll Find at the BomoWatch Boat Show\n\nLund fishing boats built for performance\nGodfrey pontoon boats like Sweetwater & Monaco\nMoomba & Supra wake boats with premium features\nBayliner & Regal runabouts for cruising and family fun\nYamaha WaveRunners for high-performance fun on the water\n\n\nMake It Worth the Trip\nTurn your visit into a full day on Lake Bomoseen. Walk the docks\, step aboard multiple models\, and experience a setting that reflects how you’ll actually use your boat. \n\nVisit Before March 28\nWith the event extended\, you still have time to stop in\, explore\, and see what makes this show different. \n👉 Get Directions to Woodard Marine👉 Plan Your Visit
URL:https://woodardmarine.com/event/boat-show-upstate-ny-bomowatch-extended/
LOCATION:Woodard Marine Show Room\, 35 E. Creek Drive\, Castleton\, VT\, 05735\, United States
CATEGORIES:Boat Shows,Customer Events,Sales Events,Spring Boating Events,Watersports Events
ATTACH;FMTTYPE=image/png:https://woodardmarine.com/wp-content/uploads/2026/03/Lake-George-Boat-Show-Extended.png
ORGANIZER;CN="Woodard Marine":MAILTO:info@woodardmarine.com
END:VEVENT
BEGIN:VEVENT
DTSTART;TZID=UTC:20260328T100000
DTEND;TZID=UTC:20260328T140000
DTSTAMP:20260421T103200
CREATED:20260324T184643Z
LAST-MODIFIED:20260324T184643Z
UID:10000142-1774692000-1774706400@woodardmarine.com
SUMMARY:Freezin’ For a Reason Polar Plunge
DESCRIPTION:Freezin’ For a Reason Polar PlungeMarch 28 | 10:00 AMLake Bomoseen Lodge & Taproom\nGet ready to embrace the cold for a cause that truly warms the heart! Join us on March 28th at 10:00 AM at the Lake Bomoseen Lodge & Taproom for the annual Freezin’ For a Reason Polar Plunge\, a fun-filled community event benefiting Shriners Hospitals for Children. \nFreezin’ For a Reason Polar Plunge Event Details\nHosted by the Cairo Shriners\, this exciting event invites participants of all ages—from kids to seasoned plungers—to take a bold leap into the chilly waters of Lake Bomoseen. Whether you're an individual\, part of a team\, or representing a local business\, everyone is welcome to join in on the fun and support an incredible cause. A $20 participation fee goes directly toward helping provide life-changing care for children in need. \nThe day begins with registration and check-in at 10:00 AM inside the Lodge and Taproom\, where participants can gather\, get organized\, and soak in the pre-plunge excitement. When it’s time\, plungers will make their way across the street to the lake for the main event—an unforgettable (and very brisk!) dip into Lake Bomoseen. \nParticipants are encouraged to show off their creativity with costumes\, team themes\, or fun accessories—spirit and enthusiasm are a big part of what makes this event so special. For safety and comfort\, plungers should wear footwear into the water\, such as flip flops\, water shoes\, or old sneakers. \nAfter the plunge\, warm up with help from Allen Pools & Spas\, who will have hot tubs onsite for participants. Each plunger will also receive a commemorative Freezin’ For a Reason towel to dry off and remember the day. Changing trailers will be available\, so be sure to bring a warm\, dry set of extra clothes. \nWhether you're diving in or cheering from the sidelines\, this is a fantastic opportunity to come together as a community\, have some fun\, and make a meaningful impact. \nTake the plunge. Support the mission. Make a difference.\nLooking for more local events? Check out our events page for all things local.
URL:https://woodardmarine.com/event/freezin-for-a-reason-polar-plunge/
LOCATION:Lake Bomoseen Lodge and Taproom\, 2551 Rt 30 N\, Castleton\, 05735\, United States
ATTACH;FMTTYPE=image/png:https://woodardmarine.com/wp-content/uploads/2026/03/Freezin-for-a-Reason-Polar-Plunge.png
END:VEVENT
END:VCALENDAR