BEGIN:VCALENDAR
VERSION:2.0
PRODID:-//Woodard Marine - ECPv6.15.18//NONSGML v1.0//EN
CALSCALE:GREGORIAN
METHOD:PUBLISH
X-WR-CALNAME:Woodard Marine
X-ORIGINAL-URL:https://woodardmarine.com
X-WR-CALDESC:Events for Woodard Marine
REFRESH-INTERVAL;VALUE=DURATION:PT1H
X-Robots-Tag:noindex
X-PUBLISHED-TTL:PT1H
BEGIN:VTIMEZONE
TZID:UTC
BEGIN:STANDARD
TZOFFSETFROM:+0000
TZOFFSETTO:+0000
TZNAME:UTC
DTSTART:20250101T000000
END:STANDARD
END:VTIMEZONE
BEGIN:VEVENT
DTSTART;TZID=UTC:20260424T180000
DTEND;TZID=UTC:20260424T203000
DTSTAMP:20260421T092559
CREATED:20260317T140322Z
LAST-MODIFIED:20260414T191206Z
UID:10000138-1777053600-1777062600@woodardmarine.com
SUMMARY:April Game Night
DESCRIPTION:Trivia at Woodard Marine – Friday\, April 24th @ 6:00 PM\n\nJoin Us for Trivia Night at Woodard Marine\nJoin us for April Game Night at Woodard Marine with an evening of trivia and great company! Gather your friends\, put your knowledge to the test\, and enjoy a fun night filled with laughs\, friendly competition\, and plenty of brain-teasing questions. Whether you’re a trivia veteran or just looking for a fun Friday night activity\, everyone is welcome to play. \n\nForm Your Crew\nBring your family\, friends\, or even your neighbors. Flying solo? No problem! Compete on your own for the ultimate challenge\, or we’ll help match you up with fellow trivia fans to create a team. \n\nBring Your Own Everything\nBYOE&A (Bring Your Own Everything and Anything): Bring along your favorite snacks\, drinks\, and plenty of team spirit for the night. \n\nPlay for Prizes\nShow off your trivia prowess for a chance to win prizes! The top three teams will take home bragging rights and prizes at the end of the evening. \n\nEvent Location\nLocated at the Woodard Marine Showroom\,53 East Creek Drive\, Castleton\, Vermont 05735. \n\nReserve Your Spot\nWant to secure your spot? RSVP by texting your team’s name and member count to 802-265-3690. You can also drop anchor the night of the event and sign up when you arrive. \n\nDon’t Miss the Fun\nJoin us Friday\, April 24th for a night of fun\, friendly rivalry\, and community. Let’s see who will claim the trivia crown this month! 🧠🏆
URL:https://woodardmarine.com/event/april-game-night/
LOCATION:Woodard Marine Show Room\, 35 E. Creek Drive\, Castleton\, VT\, 05735\, United States
ATTACH;FMTTYPE=image/png:https://woodardmarine.com/wp-content/uploads/2026/03/Trivia-Banner.png
ORGANIZER;CN="Woodard Marine":MAILTO:info@woodardmarine.com
END:VEVENT
END:VCALENDAR